View In:
ArcGIS JavaScript
ArcGIS.com Map
Google Earth
ArcMap
View Footprint In:
ArcGIS.com Map
Service Description: An Esri raster grid was provided by the Nassau County Department of Public Works on December 17, 2012. It was converted to a Esri raster. It was named Hurricane Sandy Inundation FEMA Verified November 11, 2012 to indicate the source of the data.
Name: SANDY_INUNDATION_FEMA_VERIFIED_NOV11_2012
Description: An Esri raster grid was provided by the Nassau County Department of Public Works on December 17, 2012. It was converted to a Esri raster. It was named Hurricane Sandy Inundation FEMA Verified November 11, 2012 to indicate the source of the data.
Single Fused Map Cache: false
Extent:
XMin: 1043005.5555555373
YMin: 147980.55555560856
XMax: 1151304.1666666484
YMax: 279786.1111111641
Spatial Reference: 102718
(2263)
Initial Extent:
XMin: 1043005.5555555373
YMin: 147980.55555560856
XMax: 1151304.1666666484
YMax: 279786.1111111641
Spatial Reference: 102718
(2263)
Full Extent:
XMin: 1043005.5555555373
YMin: 147980.55555560856
XMax: 1151304.1666666484
YMax: 279786.1111111641
Spatial Reference: 102718
(2263)
Pixel Size X: 6.9444444444444375
Pixel Size Y: 6.944444444444443
Band Count: 3
Pixel Type: U8
RasterFunction Infos: N/A
Mensuration Capabilities:
Has Histograms: false
Has Colormap: false
Min Scale: 0
Max Scale: 0
Copyright Text:
Service Data Type: esriImageServiceDataTypeRGB
Min Values: N/A
Max Values: N/A
Mean Values: N/A
Standard Deviation Values: N/A
Object ID Field:
Fields:
None
Default Mosaic Method: Center
Allowed Mosaic Methods:
SortField:
SortValue: null
Mosaic Operator: First
Default Compression Quality: 75
Default Resampling Method: Bilinear
Max Record Count: null
Max Image Height: 4100
Max Image Width: 15000
Max Download Image Count: null
Max Mosaic Image Count: null
Allow Raster Function: true
Allow Compute TiePoints: false
Supports Statistics: false
Supports Advanced Queries: false
Use StandardizedQueries: true
Raster Type Infos:
Name: Raster Dataset
Description: Supports all ArcGIS Raster Datasets
Help:
Has Raster Attribute Table: false
Edit Fields Info: null
Ownership Based AccessControl For Rasters: null
Child Resources:
Info
Key Properties
Legend
Supported Operations:
Export Image
Identify
Compute Histograms
Get Samples
Compute Class Statistics