{
 "currentVersion": 10.22,
 "serviceDescription": "An Esri raster grid was provided by the Nassau County Department of Public Works on December 17, 2012. It was converted to a Esri raster. It was named Hurricane Sandy Inundation FEMA Verified November 11, 2012 to indicate the source of the data.",
 "name": "SANDY_INUNDATION_FEMA_VERIFIED_NOV11_2012",
 "description": "An Esri raster grid was provided by the Nassau County Department of Public Works on December 17, 2012. It was converted to a Esri raster. It was named Hurricane Sandy Inundation FEMA Verified November 11, 2012 to indicate the source of the data.",
 "extent": {
  "xmin": 1043005.5555555373,
  "ymin": 147980.55555560856,
  "xmax": 1151304.1666666484,
  "ymax": 279786.1111111641,
  "spatialReference": {
   "wkid": 102718,
   "latestWkid": 2263
  }
 },
 "initialExtent": {
  "xmin": 1043005.5555555373,
  "ymin": 147980.55555560856,
  "xmax": 1151304.1666666484,
  "ymax": 279786.1111111641,
  "spatialReference": {
   "wkid": 102718,
   "latestWkid": 2263
  }
 },
 "fullExtent": {
  "xmin": 1043005.5555555373,
  "ymin": 147980.55555560856,
  "xmax": 1151304.1666666484,
  "ymax": 279786.1111111641,
  "spatialReference": {
   "wkid": 102718,
   "latestWkid": 2263
  }
 },
 "pixelSizeX": 6.9444444444444375,
 "pixelSizeY": 6.944444444444443,
 "bandCount": 3,
 "pixelType": "U8",
 "minPixelSize": 0,
 "maxPixelSize": 0,
 "copyrightText": "",
 "serviceDataType": "esriImageServiceDataTypeRGB",
 "minValues": [],
 "maxValues": [],
 "meanValues": [],
 "stdvValues": [],
 "objectIdField": "",
 "fields": [],
 "capabilities": "Image,Metadata",
 "defaultMosaicMethod": "Center",
 "allowedMosaicMethods": "",
 "sortField": "",
 "sortValue": null,
 "mosaicOperator": "First",
 "defaultCompressionQuality": 75,
 "defaultResamplingMethod": "Bilinear",
 "maxImageHeight": 4100,
 "maxImageWidth": 15000,
 "allowRasterFunction": true,
 "rasterFunctionInfos": [],
 "rasterTypeInfos": [
  {
   "name": "Raster Dataset",
   "description": "Supports all ArcGIS Raster Datasets",
   "help": ""
  }
 ],
 "mensurationCapabilities": "",
 "hasHistograms": false,
 "hasColormap": false,
 "hasRasterAttributeTable": false,
 "minScale": 0,
 "maxScale": 0,
 "exportTilesAllowed": false,
 "supportsStatistics": false,
 "supportsAdvancedQueries": false,
 "editFieldsInfo": null,
 "ownershipBasedAccessControlForRasters": null,
 "allowComputeTiePoints": false,
 "useStandardizedQueries": true,
 "spatialReference": {
  "wkid": 102718,
  "latestWkid": 2263
 }
}
