View In:
ArcGIS JavaScript
ArcGIS.com Map
Google Earth
ArcMap
View Footprint In:
ArcGIS.com Map
Service Description:
Name: Nassau_20121102
Description: Nassau_20121102
Single Fused Map Cache: false
Extent:
XMin: 1067249.4791666567
YMin: 221760.06944449744
XMax: 1136438.7152777677
YMax: 276793.9236111641
Spatial Reference: 102718
(2263)
Initial Extent:
XMin: 1067249.4791666567
YMin: 221760.06944449744
XMax: 1136438.7152777677
YMax: 276793.9236111641
Spatial Reference: 102718
(2263)
Full Extent:
XMin: 1067249.4791666567
YMin: 221760.06944449744
XMax: 1136438.7152777677
YMax: 276793.9236111641
Spatial Reference: 102718
(2263)
Pixel Size X: 0.8680555555555542
Pixel Size Y: 0.8680555555555554
Band Count: 3
Pixel Type: U8
RasterFunction Infos: N/A
Mensuration Capabilities:
Has Histograms: false
Has Colormap: false
Min Scale: 0
Max Scale: 0
Copyright Text:
Service Data Type: esriImageServiceDataTypeRGB
Min Values: N/A
Max Values: N/A
Mean Values: N/A
Standard Deviation Values: N/A
Object ID Field:
Fields:
None
Default Mosaic Method: Center
Allowed Mosaic Methods:
SortField:
SortValue: null
Mosaic Operator: First
Default Compression Quality: 75
Default Resampling Method: Bilinear
Max Record Count: null
Max Image Height: 4100
Max Image Width: 15000
Max Download Image Count: null
Max Mosaic Image Count: null
Allow Raster Function: true
Allow Compute TiePoints: false
Supports Statistics: false
Supports Advanced Queries: false
Use StandardizedQueries: true
Raster Type Infos:
Name: Raster Dataset
Description: Supports all ArcGIS Raster Datasets
Help:
Has Raster Attribute Table: false
Edit Fields Info: null
Ownership Based AccessControl For Rasters: null
Child Resources:
Info
Key Properties
Legend
Supported Operations:
Export Image
Identify
Compute Histograms
Get Samples
Compute Class Statistics