View In:
ArcGIS JavaScript
ArcGIS.com Map
Google Earth
ArcMap
View Footprint In:
ArcGIS.com Map
Service Description: County Road Atlas 2013
Name: County_Road_Atlas_2013
Description: County Road Atlas 2013
Single Fused Map Cache: false
Extent:
XMin: 1044061.1111111045
YMin: 149074.305555592
XMax: 1149675.6944444377
YMax: 278688.8888889253
Spatial Reference: 102718
(2263)
Initial Extent:
XMin: 1044061.1111111045
YMin: 149074.305555592
XMax: 1149675.6944444377
YMax: 278688.8888889253
Spatial Reference: 102718
(2263)
Full Extent:
XMin: 1044061.1111111045
YMin: 149074.305555592
XMax: 1149675.6944444377
YMax: 278688.8888889253
Spatial Reference: 102718
(2263)
Pixel Size X: 3.4722222222222197
Pixel Size Y: 3.472222222222222
Band Count: 3
Pixel Type: U8
RasterFunction Infos: N/A
Mensuration Capabilities:
Has Histograms: false
Has Colormap: false
Min Scale: 0
Max Scale: 0
Copyright Text:
Service Data Type: esriImageServiceDataTypeRGB
Min Values: N/A
Max Values: N/A
Mean Values: N/A
Standard Deviation Values: N/A
Object ID Field:
Fields:
None
Default Mosaic Method: Center
Allowed Mosaic Methods:
SortField:
SortValue: null
Mosaic Operator: First
Default Compression Quality: 75
Default Resampling Method: Bilinear
Max Record Count: null
Max Image Height: 4100
Max Image Width: 15000
Max Download Image Count: null
Max Mosaic Image Count: null
Allow Raster Function: true
Allow Compute TiePoints: false
Supports Statistics: false
Supports Advanced Queries: false
Use StandardizedQueries: true
Raster Type Infos:
Name: Raster Dataset
Description: Supports all ArcGIS Raster Datasets
Help:
Has Raster Attribute Table: false
Edit Fields Info: null
Ownership Based AccessControl For Rasters: null
Child Resources:
Info
Key Properties
Legend
Supported Operations:
Export Image
Identify
Compute Histograms
Get Samples
Compute Class Statistics