{
 "currentVersion": 10.22,
 "serviceDescription": "",
 "name": "Nassau_2004_IR",
 "description": "Nassau_2004_IR",
 "extent": {
  "xmin": 1043999.9131944329,
  "ymin": 148000.08680561185,
  "xmax": 1145999.9131944329,
  "ymax": 276000.08680561185,
  "spatialReference": {
   "wkid": 102718,
   "latestWkid": 2263
  }
 },
 "initialExtent": {
  "xmin": 1043999.9131944329,
  "ymin": 148000.08680561185,
  "xmax": 1145999.9131944329,
  "ymax": 276000.08680561185,
  "spatialReference": {
   "wkid": 102718,
   "latestWkid": 2263
  }
 },
 "fullExtent": {
  "xmin": 1043999.9131944329,
  "ymin": 148000.08680561185,
  "xmax": 1145999.9131944329,
  "ymax": 276000.08680561185,
  "spatialReference": {
   "wkid": 102718,
   "latestWkid": 2263
  }
 },
 "pixelSizeX": 0.4340277777777778,
 "pixelSizeY": 0.4340277777777778,
 "bandCount": 3,
 "pixelType": "U8",
 "minPixelSize": 0,
 "maxPixelSize": 0,
 "copyrightText": "",
 "serviceDataType": "esriImageServiceDataTypeRGB",
 "minValues": [],
 "maxValues": [],
 "meanValues": [],
 "stdvValues": [],
 "objectIdField": "",
 "fields": [],
 "capabilities": "Image,Metadata",
 "defaultMosaicMethod": "Center",
 "allowedMosaicMethods": "",
 "sortField": "",
 "sortValue": null,
 "mosaicOperator": "First",
 "defaultCompressionQuality": 75,
 "defaultResamplingMethod": "Bilinear",
 "maxImageHeight": 4100,
 "maxImageWidth": 15000,
 "allowRasterFunction": true,
 "rasterFunctionInfos": [],
 "rasterTypeInfos": [
  {
   "name": "Raster Dataset",
   "description": "Supports all ArcGIS Raster Datasets",
   "help": ""
  }
 ],
 "mensurationCapabilities": "",
 "hasHistograms": false,
 "hasColormap": false,
 "hasRasterAttributeTable": false,
 "minScale": 0,
 "maxScale": 0,
 "exportTilesAllowed": false,
 "supportsStatistics": false,
 "supportsAdvancedQueries": false,
 "editFieldsInfo": null,
 "ownershipBasedAccessControlForRasters": null,
 "allowComputeTiePoints": false,
 "useStandardizedQueries": true,
 "spatialReference": {
  "wkid": 102718,
  "latestWkid": 2263
 }
}
