{
 "currentVersion": 10.22,
 "serviceDescription": "Nassau County DPW Drainage",
 "name": "DPW_Drainage",
 "description": "Nassau County DPW Drainage",
 "extent": {
  "xmin": 1044064.5833333284,
  "ymin": 149076.04166671302,
  "xmax": 1149665.2777777729,
  "ymax": 278678.4722222686,
  "spatialReference": {
   "wkid": 102718,
   "latestWkid": 2263
  }
 },
 "initialExtent": {
  "xmin": 1044064.5833333284,
  "ymin": 149076.04166671302,
  "xmax": 1149665.2777777729,
  "ymax": 278678.4722222686,
  "spatialReference": {
   "wkid": 102718,
   "latestWkid": 2263
  }
 },
 "fullExtent": {
  "xmin": 1044064.5833333284,
  "ymin": 149076.04166671302,
  "xmax": 1149665.2777777729,
  "ymax": 278678.4722222686,
  "spatialReference": {
   "wkid": 102718,
   "latestWkid": 2263
  }
 },
 "pixelSizeX": 1.736111111111112,
 "pixelSizeY": 1.7361111111111112,
 "bandCount": 3,
 "pixelType": "U8",
 "minPixelSize": 0,
 "maxPixelSize": 0,
 "copyrightText": "",
 "serviceDataType": "esriImageServiceDataTypeRGB",
 "minValues": [],
 "maxValues": [],
 "meanValues": [],
 "stdvValues": [],
 "objectIdField": "",
 "fields": [],
 "capabilities": "Image,Metadata",
 "defaultMosaicMethod": "Center",
 "allowedMosaicMethods": "",
 "sortField": "",
 "sortValue": null,
 "mosaicOperator": "First",
 "defaultCompressionQuality": 75,
 "defaultResamplingMethod": "Bilinear",
 "maxImageHeight": 4100,
 "maxImageWidth": 15000,
 "allowRasterFunction": true,
 "rasterFunctionInfos": [],
 "rasterTypeInfos": [
  {
   "name": "Raster Dataset",
   "description": "Supports all ArcGIS Raster Datasets",
   "help": ""
  }
 ],
 "mensurationCapabilities": "",
 "hasHistograms": false,
 "hasColormap": false,
 "hasRasterAttributeTable": false,
 "minScale": 0,
 "maxScale": 0,
 "exportTilesAllowed": false,
 "supportsStatistics": false,
 "supportsAdvancedQueries": false,
 "editFieldsInfo": null,
 "ownershipBasedAccessControlForRasters": null,
 "allowComputeTiePoints": false,
 "useStandardizedQueries": true,
 "spatialReference": {
  "wkid": 102718,
  "latestWkid": 2263
 }
}
